BEGIN:VCALENDAR
VERSION:2.0
PRODID:-//ODDS Sportsbar - ECPv6.15.17.1//NONSGML v1.0//EN
CALSCALE:GREGORIAN
METHOD:PUBLISH
X-WR-CALNAME:ODDS Sportsbar
X-ORIGINAL-URL:https://www.odds.be
X-WR-CALDESC:Évènements pour ODDS Sportsbar
REFRESH-INTERVAL;VALUE=DURATION:PT1H
X-Robots-Tag:noindex
X-PUBLISHED-TTL:PT1H
BEGIN:VTIMEZONE
TZID:Europe/Brussels
BEGIN:DAYLIGHT
TZOFFSETFROM:+0100
TZOFFSETTO:+0200
TZNAME:CEST
DTSTART:20250330T010000
END:DAYLIGHT
BEGIN:STANDARD
TZOFFSETFROM:+0200
TZOFFSETTO:+0100
TZNAME:CET
DTSTART:20251026T010000
END:STANDARD
BEGIN:DAYLIGHT
TZOFFSETFROM:+0100
TZOFFSETTO:+0200
TZNAME:CEST
DTSTART:20260329T010000
END:DAYLIGHT
BEGIN:STANDARD
TZOFFSETFROM:+0200
TZOFFSETTO:+0100
TZNAME:CET
DTSTART:20261025T010000
END:STANDARD
BEGIN:DAYLIGHT
TZOFFSETFROM:+0100
TZOFFSETTO:+0200
TZNAME:CEST
DTSTART:20270328T010000
END:DAYLIGHT
BEGIN:STANDARD
TZOFFSETFROM:+0200
TZOFFSETTO:+0100
TZNAME:CET
DTSTART:20271031T010000
END:STANDARD
END:VTIMEZONE
BEGIN:VEVENT
DTSTART;VALUE=DATE:20260424
DTEND;VALUE=DATE:20260425
DTSTAMP:20260424T170951
CREATED:20260304T125513Z
LAST-MODIFIED:20260304T125513Z
UID:7556-1776988800-1777075199@www.odds.be
SUMMARY:Karaoké
DESCRIPTION:🎤 Karaoké Night au Odds Gosselies \nLe vendredi 24 avril\, le Odds Gosselies se transforme en salle de concert (oui\, oui 👀). \nOn commence dès 19h00 avec le repas pour prendre des forces\, puis à 20h30\, place au karaoké ! \nPop\, rock\, années 2000 ou grand classique improbable… tout est permis (ou presque). \nQue tu sois star internationale en devenir ou spécialiste du chant sous la douche\, viens mettre l’ambiance et encourager tes potes. \n👉 Inscription : https://bit.ly/3ZMZ2LY \nOn compte sur toi pour faire monter le volume 🔥🎶 \n🔞 Réservé aux 21 ans et +
URL:https://www.odds.be/event/karaoke/
LOCATION:Odds Gosselies
CATEGORIES:Bingo
ATTACH;FMTTYPE=image/jpeg:https://www.odds.be/wp-content/uploads/2026/03/Karaoke_Agenda_1098x400.jpg
END:VEVENT
BEGIN:VEVENT
DTSTART;VALUE=DATE:20260430
DTEND;VALUE=DATE:20260501
DTSTAMP:20260424T170951
CREATED:20260225T145211Z
LAST-MODIFIED:20260225T145323Z
UID:7528-1777507200-1777593599@www.odds.be
SUMMARY:Coachella
DESCRIPTION:🌴 Coachella – Edition 3 | Odds Boncelles\nL’ambiance festival revient au Odds Boncelles pour une nouvelle nuit qui s’annonce mémorable 🔥 \nPrépare-toi à une soirée aux vibes californiennes\, entre cocktails\, énergie survoltée et dancefloor en fusion. \nPour cette nouvelle édition\, on te prépare un line-up qui va faire monter la température : \n🎧 Maximilien🎧 KLX🎧 Flash🎧 Miro \n📅 Jeudi 30 avril (veille de jour férié)🕙 22:00 – 03:00📍 Odds Boncelles \nRassemble ton crew et viens vivre une nuit 100% festival. \n📩 Infos & réservations en DM via notre Instagram.
URL:https://www.odds.be/event/coachella/
LOCATION:Odds Boncelles
CATEGORIES:Events
ATTACH;FMTTYPE=image/jpeg:https://www.odds.be/wp-content/uploads/2026/02/Coachella_agenda-1098x400-1.jpg
END:VEVENT
BEGIN:VEVENT
DTSTART;VALUE=DATE:20260512
DTEND;VALUE=DATE:20260513
DTSTAMP:20260424T170951
CREATED:20260323T102526Z
LAST-MODIFIED:20260323T102526Z
UID:7605-1778544000-1778630399@www.odds.be
SUMMARY:Darts Tournament
DESCRIPTION:Le mardi 12 mai à 18h30\, on t’attend pour le tournoi DOUBLE Darts au ODDS Gosselies.\nUn mix parfait entre fun\, challenge et bonne ambiance !\n\n\n🎫 Inscription : 10 € par équipe\n🎯 Jeu 501 – Double OUT (sortie par un double)\n💪 Sur bloc (comme les vrais)\n\n📢 Ouvert aux pros comme aux amateurs\n\n🏆 2 phases de jeu :\n> Phase de qualif puis tableaux finaux :\n\nTableau A pour les gagnants\nTableau B pour continuer à te battre !\n\n\nL’ambiance sera au top… il ne manque plus que toi pour lancer la première flèche… 😎\n\n👉 Je m’inscris maintenant
URL:https://www.odds.be/event/darts-tournament_1205/
LOCATION:Odds Gosselies
CATEGORIES:Darts
ATTACH;FMTTYPE=image/jpeg:https://www.odds.be/wp-content/uploads/2026/01/Darts-2026_Agenda_1098x400.jpg
END:VEVENT
BEGIN:VEVENT
DTSTART;VALUE=DATE:20260514
DTEND;VALUE=DATE:20260515
DTSTAMP:20260424T170951
CREATED:20260323T102803Z
LAST-MODIFIED:20260423T132435Z
UID:7609-1778716800-1778803199@www.odds.be
SUMMARY:Darts Tournament
DESCRIPTION:Le jeudi 14 mai à 16h\, on t’attend pour le tournoi DOUBLE Darts au ODDS Herstal.\nUn mix parfait entre fun\, challenge et bonne ambiance !\n\n\n🎫 Inscription : 10 € par équipe \n🎯 Jeu 501 – Double OUT (sortie par un double)\n💪 Sur bloc (comme les vrais)\n\n📢 Ouvert aux pros comme aux amateurs\n\n🏆 2 phases de jeu :\n> Phase de qualif puis tableaux finaux :\n\nTableau A pour les gagnants\nTableau B pour continuer à te battre !\n\n\nL’ambiance sera au top… il ne manque plus que toi pour lancer la première flèche… 😎\n\n👉 Je m’inscris maintenant
URL:https://www.odds.be/event/darts-tournament1405/
LOCATION:Odds Herstal
CATEGORIES:Darts
ATTACH;FMTTYPE=image/jpeg:https://www.odds.be/wp-content/uploads/2026/01/Darts-2026_Agenda_1098x400.jpg
END:VEVENT
BEGIN:VEVENT
DTSTART;VALUE=DATE:20260517
DTEND;VALUE=DATE:20260518
DTSTAMP:20260424T170951
CREATED:20260323T102632Z
LAST-MODIFIED:20260323T102652Z
UID:7607-1778976000-1779062399@www.odds.be
SUMMARY:Darts Tournament
DESCRIPTION:Le dimanche 17 mai à 14h\, on t’attend pour le tournoi DOUBLE Darts au ODDS Boncelles.\nUn mix parfait entre fun\, challenge et bonne ambiance !\n\n\n🎫 Inscription : 10 € par équipe \n🎯 Jeu 501 – Double OUT (sortie par un double)\n💪 Sur bloc (comme les vrais)\n\n📢 Ouvert aux pros comme aux amateurs\n\n🏆 2 phases de jeu :\n> Phase de qualif puis tableaux finaux :\n\nTableau A pour les gagnants\nTableau B pour continuer à te battre !\n\n\nL’ambiance sera au top… il ne manque plus que toi pour lancer la première flèche… 😎\n\n👉 Je m’inscris maintenant
URL:https://www.odds.be/event/darts-tournament1705/
LOCATION:Odds Boncelles
CATEGORIES:Darts
ATTACH;FMTTYPE=image/jpeg:https://www.odds.be/wp-content/uploads/2026/01/Darts-2026_Agenda_1098x400.jpg
END:VEVENT
BEGIN:VEVENT
DTSTART;VALUE=DATE:20260521
DTEND;VALUE=DATE:20260522
DTSTAMP:20260424T170951
CREATED:20260323T094350Z
LAST-MODIFIED:20260323T094543Z
UID:7603-1779321600-1779407999@www.odds.be
SUMMARY:Tournoi Poker
DESCRIPTION:♣️ Clover Poker Club au Odds Herstal\nLe Clover Poker Club débarque au Odds Herstal pour des tournois de poker mensuels dans une ambiance conviviale et compétitive. \n🕒 Programme de la soirée \n\n18h30 : Initiation gratuiteDécouvre les bases du poker ou améliore ta stratégie.➕ 5.000 jetons offerts\n19h30 : Début du tournoi\n\n  \nℹ️ Infos tournoi \n\n💰 Prix d’entrée : 20 €\n🔁 1 re-entry ou 1 add-on possible\n🃏 Stack de départ : 30.000 jetons\n\nDes cadeaux viendront également compléter le prize pool 🎁 \nQue tu sois joueur expérimenté ou simplement curieux de tenter ta chance\, viens vivre l’ambiance d’un véritable tournoi de poker au Odds Herstal. \n👉 Réserve ta place : https://bit.ly/4ut5Yff \n⚠️ Événement réservé aux +21 ans
URL:https://www.odds.be/event/tournoi-poker_2105/
LOCATION:Odds Herstal
CATEGORIES:Poker
ATTACH;FMTTYPE=image/jpeg:https://www.odds.be/wp-content/uploads/2026/03/Poker_Agenda_1098x400.jpg
END:VEVENT
BEGIN:VEVENT
DTSTART;VALUE=DATE:20260528
DTEND;VALUE=DATE:20260529
DTSTAMP:20260424T170951
CREATED:20260323T102914Z
LAST-MODIFIED:20260323T102914Z
UID:7611-1779926400-1780012799@www.odds.be
SUMMARY:Bingo
DESCRIPTION:🎉 Les soirées Bingo\, c’est tous les mois !Viens tenter ta chance lors d’une soirée conviviale\, fun et pleine de suspense. \n🎟️ 100 % GRATUIT💰 Du cash et des cadeaux à gagner⭐ Ambiance détendue\, rires et frissons garantis \n📅 Jeudi 28 mai⏰ Début à 20:30📍 Choisis ton ODDS👉 Inscris-toi (c’est obligatoire) \nUne grille\, un numéro\, un “BINGO !” qui peut tout changer…Ne tarde pas à t’inscrire et viens tenter ta chance 🍀😎 \n🔞 Réservé aux 21 ans et + \n\n\n👉 Je m’inscris maintenant
URL:https://www.odds.be/event/bingo2805/
LOCATION:Dans tous nos Odds
CATEGORIES:Bingo
ATTACH;FMTTYPE=image/jpeg:https://www.odds.be/wp-content/uploads/2026/01/Bingo-2026_Agenda_1098x400.jpg
END:VEVENT
BEGIN:VEVENT
DTSTART;VALUE=DATE:20260604
DTEND;VALUE=DATE:20260605
DTSTAMP:20260424T170951
CREATED:20260420T134541Z
LAST-MODIFIED:20260420T134541Z
UID:7727-1780531200-1780617599@www.odds.be
SUMMARY:Blindtest
DESCRIPTION:🎶 Blind Test – Spécial Summer Vibes ☀️ \nLe jeudi 04 juin\, le Odds Gosselies te donne rendez-vous pour une nouvelle édition de son Blind Test\, avec un thème qui sent bon l’été : Summer Vibes 🌴 \nForme ton équipe et viens tester tes connaissances musicales à travers les hits ensoleillés\, les tubes de vacances et les incontournables qui te feront voyager. \nAu programme : un quiz interactif\, des épreuves fun et une ambiance estivale et festive 😎 \nLa soirée sera animée par un DJ pour te faire vibrer toute la nuit 🎧 \n🍽️ Repas sur place dès 19:00\n🎧 Blind test dès 21:00 \nUne soirée parfaite entre amis ou collègues pour s’évader et relever le défi ! \n🔞 Réservé aux 21 ans et + \n👉 Je m’inscris maintenant
URL:https://www.odds.be/event/blindtest0406/
LOCATION:Odds Gosselies
CATEGORIES:Blindtest
ATTACH;FMTTYPE=image/jpeg:https://www.odds.be/wp-content/uploads/2026/04/Blindtest-G-2_Agenda_1098x400.jpg
END:VEVENT
BEGIN:VEVENT
DTSTART;VALUE=DATE:20260606
DTEND;VALUE=DATE:20260607
DTSTAMP:20260424T170951
CREATED:20260408T084237Z
LAST-MODIFIED:20260408T090414Z
UID:7654-1780704000-1780790399@www.odds.be
SUMMARY:Darts Tournament
DESCRIPTION:Le samedi 06 juin à 16h00\, on t’attend pour le tournoi SIMPLE Darts au ODDS Herstal.\nUn mix parfait entre fun\, challenge et bonne ambiance !\n\n\n🎫 Inscription : 10 € par joueur\n🎯 Jeu 501 – Double OUT (sortie par un double)\n💪 Sur bloc (comme les vrais)\n\n📢 Ouvert aux pros comme aux amateurs\n\n🏆 2 phases de jeu :\n> Phase de qualif puis tableaux finaux :\n\nTableau A pour les gagnants\nTableau B pour continuer à te battre !\n\n\nL’ambiance sera au top… il ne manque plus que toi pour lancer la première flèche… 😎\n\n👉 Je m’inscris maintenant
URL:https://www.odds.be/event/darts-tournament0606/
LOCATION:Odds Herstal
CATEGORIES:Darts
ATTACH;FMTTYPE=image/jpeg:https://www.odds.be/wp-content/uploads/2026/01/Darts-2026_Agenda_1098x400.jpg
END:VEVENT
BEGIN:VEVENT
DTSTART;VALUE=DATE:20260609
DTEND;VALUE=DATE:20260610
DTSTAMP:20260424T170951
CREATED:20260408T084557Z
LAST-MODIFIED:20260408T090359Z
UID:7658-1780963200-1781049599@www.odds.be
SUMMARY:Darts Tournament
DESCRIPTION:Le mardi 9 juin à 18h30\, on t’attend pour le tournoi SIMPLE Darts au ODDS Gosselies.\nUn mix parfait entre fun\, challenge et bonne ambiance !\n \n \n🎫 Inscription : 10 € par joueur\n🎯 Jeu 501 – Double OUT (sortie par un double)\n💪 Sur bloc (comme les vrais)\n \n📢 Ouvert aux pros comme aux amateurs\n \n🏆 2 phases de jeu :\n> Phase de qualif puis tableaux finaux :\n\nTableau A pour les gagnants\nTableau B pour continuer à te battre !\n\n \nL’ambiance sera au top… il ne manque plus que toi pour lancer la première flèche… 😎\n \n👉 Je m’inscris maintenant
URL:https://www.odds.be/event/darts-tournament0906/
LOCATION:Odds Gosselies
CATEGORIES:Darts
ATTACH;FMTTYPE=image/jpeg:https://www.odds.be/wp-content/uploads/2026/01/Darts-2026_Agenda_1098x400.jpg
END:VEVENT
BEGIN:VEVENT
DTSTART;VALUE=DATE:20260611
DTEND;VALUE=DATE:20260612
DTSTAMP:20260424T170951
CREATED:20260413T100552Z
LAST-MODIFIED:20260413T100616Z
UID:7713-1781136000-1781222399@www.odds.be
SUMMARY:Blindtest
DESCRIPTION:🎶 Blind Test – Spécial Chansons Françaises \nLe jeudi 11 juin\, le Odds Herstal te propose une nouvelle édition de son Blind Test\, avec un thème 100 % chansons françaises 🇫🇷 \nForme ton équipe et viens tester tes connaissances musicales à travers les plus grands classiques et tubes incontournables. \nAu programme : un quiz interactif\, des épreuves déjantées et une ambiance conviviale et festive 😄 \nLa soirée sera animée par un DJ\, pour une expérience rythmée et pleine de bonne humeur 🎧 \n🍽️ Repas sur place dès 19:00🎧 Blind test dès 21:00 \nUne soirée idéale entre amis ou collègues pour s’amuser et relever le défi ! \n🔞 Réservé aux 21 ans et + \n\n\n👉 Je m’inscris maintenant
URL:https://www.odds.be/event/blindtest1106/
LOCATION:Odds Herstal
CATEGORIES:Blindtest
ATTACH;FMTTYPE=image/jpeg:https://www.odds.be/wp-content/uploads/2026/04/Blindtest-2H-Agenda_1098x400.jpg
END:VEVENT
BEGIN:VEVENT
DTSTART;VALUE=DATE:20260614
DTEND;VALUE=DATE:20260615
DTSTAMP:20260424T170951
CREATED:20260408T084401Z
LAST-MODIFIED:20260408T090306Z
UID:7656-1781395200-1781481599@www.odds.be
SUMMARY:Darts Tournament
DESCRIPTION:Le dimanche 14 juin à 14h\, on t’attend pour le tournoi SIMPLE Darts au ODDS Boncelles.\nUn mix parfait entre fun\, challenge et bonne ambiance !\n\n\n🎫 Inscription : 10 € par joueur\n🎯 Jeu 501 – Double OUT (sortie par un double)\n💪 Sur bloc (comme les vrais)\n\n📢 Ouvert aux pros comme aux amateurs\n\n🏆 2 phases de jeu :\n> Phase de qualif puis tableaux finaux :\n\nTableau A pour les gagnants\nTableau B pour continuer à te battre !\n\n\nL’ambiance sera au top… il ne manque plus que toi pour lancer la première flèche… 😎\n\n👉 Je m’inscris maintenant
URL:https://www.odds.be/event/darts-tournament1406/
LOCATION:Odds Boncelles
CATEGORIES:Darts
ATTACH;FMTTYPE=image/jpeg:https://www.odds.be/wp-content/uploads/2026/01/Darts-2026_Agenda_1098x400.jpg
END:VEVENT
BEGIN:VEVENT
DTSTART;VALUE=DATE:20260618
DTEND;VALUE=DATE:20260619
DTSTAMP:20260424T170951
CREATED:20260408T091005Z
LAST-MODIFIED:20260408T091005Z
UID:7664-1781740800-1781827199@www.odds.be
SUMMARY:Bingo
DESCRIPTION:🎉 Les soirées Bingo\, c’est tous les mois !Viens tenter ta chance lors d’une soirée conviviale\, fun et pleine de suspense. \n🎟️ 100 % GRATUIT💰 Du cash et des cadeaux à gagner⭐ Ambiance détendue\, rires et frissons garantis \n📅 Jeudi 18 juin⏰ Début à 20:30📍 Choisis ton ODDS👉 Inscris-toi (c’est obligatoire) \nUne grille\, un numéro\, un “BINGO !” qui peut tout changer…Ne tarde pas à t’inscrire et viens tenter ta chance 🍀😎 \n🔞 Réservé aux 21 ans et + \n\n\n👉 Je m’inscris maintenant
URL:https://www.odds.be/event/bingo1806/
LOCATION:Dans tous nos Odds
CATEGORIES:Bingo
ATTACH;FMTTYPE=image/jpeg:https://www.odds.be/wp-content/uploads/2026/01/Bingo-2026_Agenda_1098x400.jpg
END:VEVENT
BEGIN:VEVENT
DTSTART;VALUE=DATE:20260625
DTEND;VALUE=DATE:20260626
DTSTAMP:20260424T170951
CREATED:20260408T082326Z
LAST-MODIFIED:20260408T082326Z
UID:7652-1782345600-1782431999@www.odds.be
SUMMARY:Tournoi Poker
DESCRIPTION:♣️ Clover Poker Club au Odds Herstal\nLe Clover Poker Club débarque au Odds Herstal pour des tournois de poker mensuels dans une ambiance conviviale et compétitive. \n🕒 Programme de la soirée \n\n18h30 : Initiation gratuiteDécouvre les bases du poker ou améliore ta stratégie.➕ 5.000 jetons offerts\n19h30 : Début du tournoi\n\n  \nℹ️ Infos tournoi \n\n💰 Prix d’entrée : 20 €\n🔁 1 re-entry ou 1 add-on possible\n🃏 Stack de départ : 30.000 jetons\n\nDes cadeaux viendront également compléter le prize pool 🎁 \nQue tu sois joueur expérimenté ou simplement curieux de tenter ta chance\, viens vivre l’ambiance d’un véritable tournoi de poker au Odds Herstal. \n👉 Réserve ta place : https://bit.ly/4ut5Yff \n⚠️ Événement réservé aux +21 ans
URL:https://www.odds.be/event/tournoi-poker/
LOCATION:Odds Herstal
CATEGORIES:Poker
ATTACH;FMTTYPE=image/jpeg:https://www.odds.be/wp-content/uploads/2026/03/Poker_Agenda_1098x400.jpg
END:VEVENT
END:VCALENDAR